Workbook

Sheet POIDS CRITERES
A1: Domaine | B1: Critère | C1: Poids %
A2: 1. Compétences | B2: 1A. Connaissances & expertise techniques | C2: 20
A3: 1. Compétences | B3: 1B. Compétences pratiques & opérationnelles | C3: 5
A4: 1. Compétences | B4: 1C. Capacités cognitives & analytiques | C4: 20
A5: 1. Compétences | B5: 1D. Capacités relationnelles & émotionnelles (incl mgmt) | C5: 15 | D5: =SUM(C2:C5) -> 60
A6: 2. Responsabilités | B6: 2A. Impact & autonomie décisionnelle | C6: 25
A7: 2. Responsabilités | B7: 2B. Qualité, conformité, éthique & responsabilité sociétale | C7: 5 | D7: =SUM(C6:C7) -> 30
A8: 3. Contraintes | B8: 3A. Exigences intellectuelles, humaines & organisationnelles | C8: 5
A9: 3. Contraintes | B9: 3B. Exigences physiques & environnementales | C9: 5 | D9: =SUM(C8:C9) -> 10
C10: =SUM(C2:C9) -> 100
C13: 85

Sheet Distribution des points
A1: Niveau | B1: SELECTED | K1: Min | L1: Max | M1: Level
A2: 1 | B2: 0 | K2: 0 | L2: 49 | M2: 1 | O2: 725 | P2: =VLOOKUP(O2,$K$2:$M$21,2,) -> #N/A
A3: 2 | B3: =100/1100 -> 0.090909091 | K3: =L2+1 -> 50 | L3: =K3+$L$2 -> 99 | M3: 2
A4: 3 | B4: =B3+100/1100 -> 0.18181818 | K4: =L3+1 -> 100 | L4: =K4+$L$2 -> 149 | M4: 3
A5: 4 | B5: =B4+100/1100 -> 0.27272727 | K5: =L4+1 -> 150 | L5: =K5+$L$2 -> 199 | M5: 4
A6: 5 | B6: =B5+100/1100 -> 0.36363636 | K6: =L5+1 -> 200 | L6: =K6+$L$2 -> 249 | M6: 5
A7: 6 | B7: =B6+100/1100 -> 0.45454545 | K7: =L6+1 -> 250 | L7: =K7+$L$2 -> 299 | M7: 6
A8: 7 | B8: =B7+100/1100 -> 0.54545455 | K8: =L7+1 -> 300 | L8: =K8+$L$2 -> 349 | M8: 7
A9: 8 | B9: =B8+100/1100 -> 0.63636364 | K9: =L8+1 -> 350 | L9: =K9+$L$2 -> 399 | M9: 8
A10: 9 | B10: =B9+100/1100 -> 0.72727273 | K10: =L9+1 -> 400 | L10: =K10+$L$2 -> 449 | M10: 9
A11: 10 | B11: =B10+100/1100 -> 0.81818182 | K11: =L10+1 -> 450 | L11: =K11+$L$2 -> 499 | M11: 10
A12: 11 | B12: =B11+100/1100 -> 0.90909091 | K12: =L11+1 -> 500 | L12: =K12+$L$2 -> 549 | M12: 11
A13: 12 | B13: =B12+100/1100 -> 1 | K13: =L12+1 -> 550 | L13: =K13+$L$2 -> 599 | M13: 12
K14: =L13+1 -> 600 | L14: =K14+$L$2 -> 649 | M14: 13
K15: =L14+1 -> 650 | L15: =K15+$L$2 -> 699 | M15: 14
A16: IMPACT \ AUTONOMIE | K16: =L15+1 -> 700 | L16: =K16+$L$2 -> 749 | M16: 15
D17: 1 | E17: 2 | F17: 3 | G17: 4 | H17: 5 | I17: 6 | K17: =L16+1 -> 750 | L17: =K17+$L$2 -> 799 | M17: 16
B18: 1 | D18: 1 | E18: 1 | F18: 2 | G18: 2 | H18: 3 | I18: 3 | K18: =L17+1 -> 800 | L18: =K18+$L$2 -> 849 | M18: 17
B19: 2 | D19: 2 | E19: 2 | F19: 3 | G19: 3 | H19: 4 | I19: 4 | K19: =L18+1 -> 850 | L19: =K19+$L$2 -> 899 | M19: 18
B20: 3 | D20: 3 | E20: 3 | F20: 4 | G20: 4 | H20: 5 | I20: 5 | K20: =L19+1 -> 900 | L20: =K20+$L$2 -> 949 | M20: 19
B21: 4 | D21: 4 | E21: 4 | F21: 5 | G21: 5 | H21: 6 | I21: 6 | K21: =L20+1 -> 950 | L21: =K21+$L$2 -> 999 | M21: 20
B22: 5 | D22: 5 | E22: 5 | F22: 6 | G22: 6 | H22: 7 | I22: 7
B23: 6 | D23: 6 | E23: 6 | F23: 7 | G23: 7 | H23: 8 | I23: 8
B24: 7 | D24: 7 | E24: 7 | F24: 8 | G24: 8 | H24: 9 | I24: 10
B25: 8 | D25: 8 | E25: 8 | F25: 9 | G25: 10 | H25: 11 | I25: 12
A26: IMPACT \ AUTONOMIE
D27: 1 | E27: 2 | F27: 3 | G27: 4 | H27: 5 | I27: 6
B28: 1 | D28: =VLOOKUP(D18,$A$2:$B$13,2,FALSE) -> 0 | E28: =VLOOKUP(E18,$A$2:$B$13,2,FALSE) -> 0 | F28: =VLOOKUP(F18,$A$2:$B$13,2,FALSE) -> 0.090909091 | G28: =VLOOKUP(G18,$A$2:$B$13,2,FALSE) -> 0.090909091 | H28: =VLOOKUP(H18,$A$2:$B$13,2,FALSE) -> 0.18181818 | I28: =VLOOKUP(I18,$A$2:$B$13,2,FALSE) -> 0.18181818
B29: 2 | D29: =VLOOKUP(D19,$A$2:$B$13,2,FALSE) -> 0.090909091 | E29: =VLOOKUP(E19,$A$2:$B$13,2,FALSE) -> 0.090909091 | F29: =VLOOKUP(F19,$A$2:$B$13,2,FALSE) -> 0.18181818 | G29: =VLOOKUP(G19,$A$2:$B$13,2,FALSE) -> 0.18181818 | H29: =VLOOKUP(H19,$A$2:$B$13,2,FALSE) -> 0.27272727 | I29: =VLOOKUP(I19,$A$2:$B$13,2,FALSE) -> 0.27272727
B30: 3 | D30: =VLOOKUP(D20,$A$2:$B$13,2,FALSE) -> 0.18181818 | E30: =VLOOKUP(E20,$A$2:$B$13,2,FALSE) -> 0.18181818 | F30: =VLOOKUP(F20,$A$2:$B$13,2,FALSE) -> 0.27272727 | G30: =VLOOKUP(G20,$A$2:$B$13,2,FALSE) -> 0.27272727 | H30: =VLOOKUP(H20,$A$2:$B$13,2,FALSE) -> 0.36363636 | I30: =VLOOKUP(I20,$A$2:$B$13,2,FALSE) -> 0.36363636
B31: 4 | D31: =VLOOKUP(D21,$A$2:$B$13,2,FALSE) -> 0.27272727 | E31: =VLOOKUP(E21,$A$2:$B$13,2,FALSE) -> 0.27272727 | F31: =VLOOKUP(F21,$A$2:$B$13,2,FALSE) -> 0.36363636 | G31: =VLOOKUP(G21,$A$2:$B$13,2,FALSE) -> 0.36363636 | H31: =VLOOKUP(H21,$A$2:$B$13,2,FALSE) -> 0.45454545 | I31: =VLOOKUP(I21,$A$2:$B$13,2,FALSE) -> 0.45454545
B32: 5 | D32: =VLOOKUP(D22,$A$2:$B$13,2,FALSE) -> 0.36363636 | E32: =VLOOKUP(E22,$A$2:$B$13,2,FALSE) -> 0.36363636 | F32: =VLOOKUP(F22,$A$2:$B$13,2,FALSE) -> 0.45454545 | G32: =VLOOKUP(G22,$A$2:$B$13,2,FALSE) -> 0.45454545 | H32: =VLOOKUP(H22,$A$2:$B$13,2,FALSE) -> 0.54545455 | I32: =VLOOKUP(I22,$A$2:$B$13,2,FALSE) -> 0.54545455
B33: 6 | D33: =VLOOKUP(D23,$A$2:$B$13,2,FALSE) -> 0.45454545 | E33: =VLOOKUP(E23,$A$2:$B$13,2,FALSE) -> 0.45454545 | F33: =VLOOKUP(F23,$A$2:$B$13,2,FALSE) -> 0.54545455 | G33: =VLOOKUP(G23,$A$2:$B$13,2,FALSE) -> 0.54545455 | H33: =VLOOKUP(H23,$A$2:$B$13,2,FALSE) -> 0.63636364 | I33: =VLOOKUP(I23,$A$2:$B$13,2,FALSE) -> 0.63636364
B34: 7 | D34: =VLOOKUP(D24,$A$2:$B$13,2,FALSE) -> 0.54545455 | E34: =VLOOKUP(E24,$A$2:$B$13,2,FALSE) -> 0.54545455 | F34: =VLOOKUP(F24,$A$2:$B$13,2,FALSE) -> 0.63636364 | G34: =VLOOKUP(G24,$A$2:$B$13,2,FALSE) -> 0.63636364 | H34: =VLOOKUP(H24,$A$2:$B$13,2,FALSE) -> 0.72727273 | I34: =VLOOKUP(I24,$A$2:$B$13,2,FALSE) -> 0.81818182
B35: 8 | D35: =VLOOKUP(D25,$A$2:$B$13,2,FALSE) -> 0.63636364 | E35: =VLOOKUP(E25,$A$2:$B$13,2,FALSE) -> 0.63636364 | F35: =VLOOKUP(F25,$A$2:$B$13,2,FALSE) -> 0.72727273 | G35: =VLOOKUP(G25,$A$2:$B$13,2,FALSE) -> 0.81818182 | H35: =VLOOKUP(H25,$A$2:$B$13,2,FALSE) -> 0.90909091 | I35: =VLOOKUP(I25,$A$2:$B$13,2,FALSE) -> 1

Sheet Levels
A1: Min | B1: Max | C1: Level
A2: 0 | B2: 49 | C2: 1 | E2: 900 | F2: =LOOKUP(E2,A2:A21,C2:C21) -> 19
A3: =B2+1 -> 50 | B3: =A3+$B$2 -> 99 | C3: 2
A4: =B3+1 -> 100 | B4: =A4+$B$2 -> 149 | C4: 3
A5: =B4+1 -> 150 | B5: =A5+$B$2 -> 199 | C5: 4
A6: =B5+1 -> 200 | B6: =A6+$B$2 -> 249 | C6: 5
A7: =B6+1 -> 250 | B7: =A7+$B$2 -> 299 | C7: 6
A8: =B7+1 -> 300 | B8: =A8+$B$2 -> 349 | C8: 7
A9: =B8+1 -> 350 | B9: =A9+$B$2 -> 399 | C9: 8
A10: =B9+1 -> 400 | B10: =A10+$B$2 -> 449 | C10: 9
A11: =B10+1 -> 450 | B11: =A11+$B$2 -> 499 | C11: 10
A12: =B11+1 -> 500 | B12: =A12+$B$2 -> 549 | C12: 11
A13: =B12+1 -> 550 | B13: =A13+$B$2 -> 599 | C13: 12
A14: =B13+1 -> 600 | B14: =A14+$B$2 -> 649 | C14: 13
... A21: =B20+1 -> 950 | B21: =A21+$B$2 -> 999 | C21: 20

Sheet TEST 1 position
A1: Domaine | B1: Critère | C1: Poids % | D1: Points Max | E1: Results | F1: % granted | G1: Points
A2: 1. Compétences | B2: 1A. Connaissances & expertise techniques | C2: ='POIDS CRITERES'!C2 -> 20 | D2: =1000*C2/100 -> 200 | E2: 6 | F2: =VLOOKUP(E2,'Distribution des points'!$A$2:$B$13,2,FALSE) -> 0.45454545 | G2: =F2*D2 -> 90.909091
A3: 1. Compétences | B3: 1B. Compétences pratiques & opérationnelles | C3: ='POIDS CRITERES'!C3 -> 5 | D3: =1000*C3/100 -> 50 | E3: 7 | F3: =VLOOKUP(E3,'Distribution des points'!$A$2:$B$13,2,FALSE) -> 0.54545455 | G3: =F3*D3 -> 27.272727
A4: 1. Compétences | B4: 1C. Capacités cognitives & analytiques | C4: ='POIDS CRITERES'!C4 -> 20 | D4: =1000*C4/100 -> 200 | E4: 6 | F4: =VLOOKUP(E4,'Distribution des points'!$A$2:$B$13,2,FALSE) -> 0.45454545 | G4: =F4*D4 -> 90.909091
A5: 1. Compétences | B5: 1D. Capacités relationnelles & émotionnelles | C5: ='POIDS CRITERES'!C5 -> 15 | D5: =1000*C5/100 -> 150 | E5: 4 | F5: =VLOOKUP(E5,'Distribution des points'!$A$2:$B$13,2,FALSE) -> 0.27272727 | G5: =F5*D5 -> 40.909091
A6: 2. Responsabilités | B6: 2A. Impact & autonomie décisionnelle | C6: ='POIDS CRITERES'!C6 -> 25 | D6: =1000*C6/100 -> 250 | E6: 3 | F6: =VLOOKUP(E6,'Distribution des points'!$B$28:$I$35,MATCH('TEST 1 position'!E7,'Distribution des points'!$B$27:$I$27,0),FALSE) -> 0.27272727 | G6: =F6*D6 -> 68.181818
D7: =1000*C7/100 -> 0 | E7: 3 | G7: =F7*D7 -> 0
A8: 2. Responsabilités | B8: 2B. Qualité, conformité, éthique & responsabilité sociétale | C8: ='POIDS CRITERES'!C7 -> 5 | D8: =1000*C8/100 -> 50 | E8: 6 | F8: =VLOOKUP(E8,'Distribution des points'!$A$2:$B$13,2,FALSE) -> 0.45454545 | G8: =F8*D8 -> 22.727273
A9: 3. Contraintes | B9: 3A. Exigences intellectuelles, humaines & organisationnelles | C9: ='POIDS CRITERES'!C8 -> 5 | D9: =1000*C9/100 -> 50 | E9: 5 | F9: =VLOOKUP(E9,'Distribution des points'!$A$2:$B$13,2,FALSE) -> 0.36363636 | G9: =F9*D9 -> 18.181818
A10: 3. Contraintes | B10: 3B. Exigences physiques & environnementales | C10: ='POIDS CRITERES'!C9 -> 5 | D10: =1000*C10/100 -> 50 | E10: 1 | F10: =VLOOKUP(E10,'Distribution des points'!$A$2:$B$13,2,FALSE) -> 0 | G10: =F10*D10 -> 0
F11: Points = | G11: =SUM(G2:G10) -> 359.09091
F13: Level = | G13: =LOOKUP(G11,Levels!A2:A21,Levels!C2:C21) -> 8

Sheet Overview position for testing
B2: ='POIDS CRITERES'!C2 -> 20 | C2: ='POIDS CRITERES'!C3 -> 5 | D2: ='POIDS CRITERES'!C4 -> 20 | E2: ='POIDS CRITERES'!C5 -> 15 | F2: ='POIDS CRITERES'!C6 -> 25 | H2: ='POIDS CRITERES'!C7 -> 5 | I2: ='POIDS CRITERES'!C8 -> 5 | J2: ='POIDS CRITERES'!C9 -> 5
B3: =1000*B2/100 -> 200 | C3: =1000*C2/100 -> 50 | D3: =1000*D2/100 -> 200 | E3: =1000*E2/100 -> 150 | F3: =1000*F2/100 -> 250 | G3: =1000*G2/100 -> 0 | H3: =1000*H2/100 -> 50 | I3: =1000*I2/100 -> 50 | J3: =1000*J2/100 -> 50
A5: Role | B5: 1A. Connaissances & expertise techniques | C5: 1B. Compétences pratiques & opérationnelles | D5: 1C. Capacités cognitives & analytiques | E5: 1D. Capacités relationnelles & émotionnelles | F5: 2A. Impact | G5: 2A. Autonomie décisionnelle | H5: 2B. Qualité, conformité, éthique & responsabilité sociétale | I5: 3A. Exigences intellectuelles, humaines & organisationnelles | J5: 3B. Exigences physiques & environnementales | L5: 1A | M5: 1B | N5: 1C | O5: 1D | P5: 2A | Q5: 2B | R5: 3A | S5: 3B | U5: 1A | V5: 1B | W5: 1C | X5: 1D | Y5: 2A | Z5: 2B | AA5: 3A | AB5: 3B | AD5: Points | AF5: Level
A6: Technicien de surface | B6: 1 | C6: 2 | D6: 2 | E6: 2 | F6: 2 | G6: 1 | H6: 2 | I6: 2 | J6: 6 | L6: =VLOOKUP(B6,'Distribution des points'!$A$2:$B$13,2,FALSE) -> 0 | M6: =VLOOKUP(C6,'Distribution des points'!$A$2:$B$13,2,FALSE) -> 0.090909091 | N6: =VLOOKUP(D6,'Distribution des points'!$A$2:$B$13,2,FALSE) -> 0.090909091 | O6: =VLOOKUP(E6,'Distribution des points'!$A$2:$B$13,2,FALSE) -> 0.090909091 | P6: =VLOOKUP(F6,'Distribution des points'!$B$28:$I$35,MATCH('Overview position for testing'!G6,'Distribution des points'!$B$27:$I$27,0),FALSE) -> 0.090909091 | Q6: =VLOOKUP(H6,'Distribution des points'!$A$2:$B$13,2,FALSE) -> 0.090909091 | R6: =VLOOKUP(I6,'Distribution des points'!$A$2:$B$13,2,FALSE) -> 0.090909091 | S6: =VLOOKUP(J6,'Distribution des points'!$A$2:$B$13,2,FALSE) -> 0.45454545 | U6: =L6*B$3 -> 0 | V6: =M6*C$3 -> 4.5454545 | W6: =N6*D$3 -> 18.181818 | X6: =O6*E$3 -> 13.636364 | Y6: =P6*$F$3 -> 22.727273 | Z6: =Q6*$H$3 -> 4.5454545 | AA6: =R6*$I$3 -> 4.5454545 | AB6: =S6*$J$3 -> 22.727273 | AD6: =SUM(U6:AB6) -> 90.909091 | AF6: =LOOKUP(AD6,Levels!$A$2:$A$21,Levels!$C$2:$C$21) -> 2
A7: Customer Care Agent | B7: 3 | C7: 7 | D7: 4 | E7: 7 | F7: 2 | G7: 2 | H7: 4 | I7: 6 | J7: 1 | L7: =VLOOKUP(B7,'Distribution des points'!$A$2:$B$13,2,FALSE) -> 0.18181818 | M7: =VLOOKUP(C7,'Distribution des points'!$A$2:$B$13,2,FALSE) -> 0.54545455 | N7: =VLOOKUP(D7,'Distribution des points'!$A$2:$B$13,2,FALSE) -> 0.27272727 | O7: =VLOOKUP(E7,'Distribution des points'!$A$2:$B$13,2,FALSE) -> 0.54545455 | P7: =VLOOKUP(F7,'Distribution des points'!$B$28:$I$35,MATCH('Overview position for testing'!G7,'Distribution des points'!$B$27:$I$27,0),FALSE) -> 0.090909091 | Q7: =VLOOKUP(H7,'Distribution des points'!$A$2:$B$13,2,FALSE) -> 0.27272727 | R7: =VLOOKUP(I7,'Distribution des points'!$A$2:$B$13,2,FALSE) -> 0.45454545 | S7: =VLOOKUP(J7,'Distribution des points'!$A$2:$B$13,2,FALSE) -> 0 | U7: =L7*B$3 -> 36.363636 | V7: =M7*C$3 -> 27.272727 | W7: =N7*D$3 -> 54.545455 | X7: =O7*E$3 -> 81.818182 | Y7: =P7*$F$3 -> 22.727273 | Z7: =Q7*$H$3 -> 13.636364 | AA7: =R7*$I$3 -> 22.727273 | AB7: =S7*$J$3 -> 0 | AD7: =SUM(U7:AB7) -> 259.09091 | AF7: =LOOKUP(AD7,Levels!$A$2:$A$21,Levels!$C$2:$C$21) -> 6
A8: Opérateur industriel qualifié | B8: 4 | C8: 8 | D8: 4 | E8: 4 | F8: 3 | G8: 3 | H8: 5 | I8: 5 | J8: 7 | L8: =VLOOKUP(B8,'Distribution des points'!$A$2:$B$13,2,FALSE) -> 0.27272727 | M8: =VLOOKUP(C8,'Distribution des points'!$A$2:$B$13,2,FALSE) -> 0.63636364 | N8: =VLOOKUP(D8,'Distribution des points'!$A$2:$B$13,2,FALSE) -> 0.27272727 | O8: =VLOOKUP(E8,'Distribution des points'!$A$2:$B$13,2,FALSE) -> 0.27272727 | P8: =VLOOKUP(F8,'Distribution des points'!$B$28:$I$35,MATCH('Overview position for testing'!G8,'Distribution des points'!$B$27:$I$27,0),FALSE) -> 0.27272727 | Q8: =VLOOKUP(H8,'Distribution des points'!$A$2:$B$13,2,FALSE) -> 0.36363636 | R8: =VLOOKUP(I8,'Distribution des points'!$A$2:$B$13,2,FALSE) -> 0.36363636 | S8: =VLOOKUP(J8,'Distribution des points'!$A$2:$B$13,2,FALSE) -> 0.54545455 | U8: =L8*B$3 -> 54.545455 | V8: =M8*C$3 -> 31.818182 | W8: =N8*D$3 -> 54.545455 | X8: =O8*E$3 -> 40.909091 | Y8: =P8*$F$3 -> 68.181818 | Z8: =Q8*$H$3 -> 18.181818 | AA8: =R8*$I$3 -> 18.181818 | AB8: =S8*$J$3 -> 27.272727 | AD8: =SUM(U8:AB8) -> 313.63636 | AF8: =LOOKUP(AD8,Levels!$A$2:$A$21,Levels!$C$2:$C$21) -> 7
A9: Agent pénitentiaire | B9: 4 | C9: 7 | D9: 4 | E9: 7 | F9: 3 | G9: 2 | H9: 7 | I9: 8 | J9: 7 | L9: =VLOOKUP(B9,'Distribution des points'!$A$2:$B$13,2,FALSE) -> 0.27272727 | M9: =VLOOKUP(C9,'Distribution des points'!$A$2:$B$13,2,FALSE) -> 0.54545455 | N9: =VLOOKUP(D9,'Distribution des points'!$A$2:$B$13,2,FALSE) -> 0.27272727 | O9: =VLOOKUP(E9,'Distribution des points'!$A$2:$B$13,2,FALSE) -> 0.54545455 | P9: =VLOOKUP(F9,'Distribution des points'!$B$28:$I$35,MATCH('Overview position for testing'!G9,'Distribution des points'!$B$27:$I$27,0),FALSE) -> 0.18181818 | Q9: =VLOOKUP(H9,'Distribution des points'!$A$2:$B$13,2,FALSE) -> 0.54545455 | R9: =VLOOKUP(I9,'Distribution des points'!$A$2:$B$13,2,FALSE) -> 0.63636364 | S9: =VLOOKUP(J9,'Distribution des points'!$A$2:$B$13,2,FALSE) -> 0.54545455 | U9: =L9*B$3 -> 54.545455 | V9: =M9*C$3 -> 27.272727 | W9: =N9*D$3 -> 54.545455 | X9: =O9*E$3 -> 81.818182 | Y9: =P9*$F$3 -> 45.454545 | Z9: =Q9*$H$3 -> 27.272727 | AA9: =R9*$I$3 -> 31.818182 | AB9: =S9*$J$3 -> 27.272727 | AD9: =SUM(U9:AB9) -> 350 | AF9: =LOOKUP(AD9,Levels!$A$2:$A$21,Levels!$C$2:$C$21) -> 7
A10: Technicien de maintenance industrielle | B10: 6 | C10: 9 | D10: 5 | E10: 4 | F10: 4 | G10: 3 | H10: 6 | I10: 6 | J10: 7 | L10: =VLOOKUP(B10,'Distribution des points'!$A$2:$B$13,2,FALSE) -> 0.45454545 | M10: =VLOOKUP(C10,'Distribution des points'!$A$2:$B$13,2,FALSE) -> 0.72727273 | N10: =VLOOKUP(D10,'Distribution des points'!$A$2:$B$13,2,FALSE) -> 0.36363636 | O10: =VLOOKUP(E10,'Distribution des points'!$A$2:$B$13,2,FALSE) -> 0.27272727 | P10: =VLOOKUP(F10,'Distribution des points'!$B$28:$I$35,MATCH('Overview position for testing'!G10,'Distribution des points'!$B$27:$I$27,0),FALSE) -> 0.36363636 | Q10: =VLOOKUP(H10,'Distribution des points'!$A$2:$B$13,2,FALSE) -> 0.45454545 | R10: =VLOOKUP(I10,'Distribution des points'!$A$2:$B$13,2,FALSE) -> 0.45454545 | S10: =VLOOKUP(J10,'Distribution des points'!$A$2:$B$13,2,FALSE) -> 0.54545455 | U10: =L10*B$3 -> 90.909091 | V10: =M10*C$3 -> 36.363636 | W10: =N10*D$3 -> 72.727273 | X10: =O10*E$3 -> 40.909091 | Y10: =P10*$F$3 -> 90.909091 | Z10: =Q10*$H$3 -> 22.727273 | AA10: =R10*$I$3 -> 22.727273 | AB10: =S10*$J$3 -> 27.272727 | AD10: =SUM(U10:AB10) -> 404.54545 | AF10: =LOOKUP(AD10,Levels!$A$2:$A$21,Levels!$C$2:$C$21) -> 9
A11: Chef d’équipe logistique | B11: 5 | C11: 7 | D11: 5 | E11: 6 | F11: 4 | G11: 4 | H11: 6 | I11: 7 | J11: 6 | L11: =VLOOKUP(B11,'Distribution des points'!$A$2:$B$13,2,FALSE) -> 0.36363636 | M11: =VLOOKUP(C11,'Distribution des points'!$A$2:$B$13,2,FALSE) -> 0.54545455 | N11: =VLOOKUP(D11,'Distribution des points'!$A$2:$B$13,2,FALSE) -> 0.36363636 | O11: =VLOOKUP(E11,'Distribution des points'!$A$2:$B$13,2,FALSE) -> 0.45454545 | P11: =VLOOKUP(F11,'Distribution des points'!$B$28:$I$35,MATCH('Overview position for testing'!G11,'Distribution des points'!$B$27:$I$27,0),FALSE) -> 0.36363636 | Q11: =VLOOKUP(H11,'Distribution des points'!$A$2:$B$13,2,FALSE) -> 0.45454545 | R11: =VLOOKUP(I11,'Distribution des points'!$A$2:$B$13,2,FALSE) -> 0.54545455 | S11: =VLOOKUP(J11,'Distribution des points'!$A$2:$B$13,2,FALSE) -> 0.45454545 | U11: =L11*B$3 -> 72.727273 | V11: =M11*C$3 -> 27.272727 | W11: =N11*D$3 -> 72.727273 | X11: =O11*E$3 -> 68.181818 | Y11: =P11*$F$3 -> 90.909091 | Z11: =Q11*$H$3 -> 22.727273 | AA11: =R11*$I$3 -> 27.272727 | AB11: =S11*$J$3 -> 22.727273 | AD11: =SUM(U11:AB11) -> 404.54545 | AF11: =LOOKUP(AD11,Levels!$A$2:$A$21,Levels!$C$2:$C$21) -> 9
A12: Développeur IT backend | B12: 8 | C12: 8 | D12: 7 | E12: 5 | F12: 3 | G12: 4 | H12: 6 | I12: 5 | J12: 1 | L12: =VLOOKUP(B12,'Distribution des points'!$A$2:$B$13,2,FALSE) -> 0.63636364 | M12: =VLOOKUP(C12,'Distribution des points'!$A$2:$B$13,2,FALSE) -> 0.63636364 | N12: =VLOOKUP(D12,'Distribution des points'!$A$2:$B$13,2,FALSE) -> 0.54545455 | O12: =VLOOKUP(E12,'Distribution des points'!$A$2:$B$13,2,FALSE) -> 0.36363636 | P12: =VLOOKUP(F12,'Distribution des points'!$B$28:$I$35,MATCH('Overview position for testing'!G12,'Distribution des points'!$B$27:$I$27,0),FALSE) -> 0.27272727 | Q12: =VLOOKUP(H12,'Distribution des points'!$A$2:$B$13,2,FALSE) -> 0.45454545 | R12: =VLOOKUP(I12,'Distribution des points'!$A$2:$B$13,2,FALSE) -> 0.36363636 | S12: =VLOOKUP(J12,'Distribution des points'!$A$2:$B$13,2,FALSE) -> 0 | U12: =L12*B$3 -> 127.27273 | V12: =M12*C$3 -> 31.818182 | W12: =N12*D$3 -> 109.09091 | X12: =O12*E$3 -> 54.545455 | Y12: =P12*$F$3 -> 68.181818 | Z12: =Q12*$H$3 -> 22.727273 | AA12: =R12*$I$3 -> 18.181818 | AB12: =S12*$J$3 -> 0 | AD12: =SUM(U12:AB12) -> 431.81818 | AF12: =LOOKUP(AD12,Levels!$A$2:$A$21,Levels!$C$2:$C$21) -> 9
A13: Sales Representative B2B | B13: 6 | C13: 8 | D13: 6 | E13: 8 | F13: 4 | G13: 4 | H13: 5 | I13: 6 | J13: 1 | L13: =VLOOKUP(B13,'Distribution des points'!$A$2:$B$13,2,FALSE) -> 0.45454545 | M13: =VLOOKUP(C13,'Distribution des points'!$A$2:$B$13,2,FALSE) -> 0.63636364 | N13: =VLOOKUP(D13,'Distribution des points'!$A$2:$B$13,2,FALSE) -> 0.45454545 | O13: =VLOOKUP(E13,'Distribution des points'!$A$2:$B$13,2,FALSE) -> 0.63636364 | P13: =VLOOKUP(F13,'Distribution des points'!$B$28:$I$35,MATCH('Overview position for testing'!G13,'Distribution des points'!$B$27:$I$27,0),FALSE) -> 0.36363636 | Q13: =VLOOKUP(H13,'Distribution des points'!$A$2:$B$13,2,FALSE) -> 0.36363636 | R13: =VLOOKUP(I13,'Distribution des points'!$A$2:$B$13,2,FALSE) -> 0.45454545 | S13: =VLOOKUP(J13,'Distribution des points'!$A$2:$B$13,2,FALSE) -> 0 | U13: =L13*B$3 -> 90.909091 | V13: =M13*C$3 -> 31.818182 | W13: =N13*D$3 -> 90.909091 | X13: =O13*E$3 -> 95.454545 | Y13: =P13*$F$3 -> 90.909091 | Z13: =Q13*$H$3 -> 18.181818 | AA13: =R13*$I$3 -> 22.727273 | AB13: =S13*$J$3 -> 0 | AD13: =SUM(U13:AB13) -> 440.90909 | AF13: =LOOKUP(AD13,Levels!$A$2:$A$21,Levels!$C$2:$C$21) -> 9
A14: Procurement Specialist | B14: 6 | C14: 7 | D14: 7 | E14: 7 | F14: 4 | G14: 4 | H14: 6 | I14: 6 | J14: 1 | L14: =VLOOKUP(B14,'Distribution des points'!$A$2:$B$13,2,FALSE) -> 0.45454545 | M14: =VLOOKUP(C14,'Distribution des points'!$A$2:$B$13,2,FALSE) -> 0.54545455 | N14: =VLOOKUP(D14,'Distribution des points'!$A$2:$B$13,2,FALSE) -> 0.54545455 | O14: =VLOOKUP(E14,'Distribution des points'!$A$2:$B$13,2,FALSE) -> 0.54545455 | P14: =VLOOKUP(F14,'Distribution des points'!$B$28:$I$35,MATCH('Overview position for testing'!G14,'Distribution des points'!$B$27:$I$27,0),FALSE) -> 0.36363636 | Q14: =VLOOKUP(H14,'Distribution des points'!$A$2:$B$13,2,FALSE) -> 0.45454545 | R14: =VLOOKUP(I14,'Distribution des points'!$A$2:$B$13,2,FALSE) -> 0.45454545 | S14: =VLOOKUP(J14,'Distribution des points'!$A$2:$B$13,2,FALSE) -> 0 | U14: =L14*B$3 -> 90.909091 | V14: =M14*C$3 -> 27.272727 | W14: =N14*D$3 -> 109.09091 | X14: =O14*E$3 -> 81.818182 | Y14: =P14*$F$3 -> 90.909091 | Z14: =Q14*$H$3 -> 22.727273 | AA14: =R14*$I$3 -> 22.727273 | AB14: =S14*$J$3 -> 0 | AD14: =SUM(U14:AB14) -> 445.45455 | AF14: =LOOKUP(AD14,Levels!$A$2:$A$21,Levels!$C$2:$C$21) -> 9
A15: Digital Marketing Specialist | B15: 7 | C15: 8 | D15: 7 | E15: 6 | F15: 4 | G15: 4 | H15: 5 | I15: 6 | J15: 1 | L15: =VLOOKUP(B15,'Distribution des points'!$A$2:$B$13,2,FALSE) -> 0.54545455 | M15: =VLOOKUP(C15,'Distribution des points'!$A$2:$B$13,2,FALSE) -> 0.63636364 | N15: =VLOOKUP(D15,'Distribution des points'!$A$2:$B$13,2,FALSE) -> 0.54545455 | O15: =VLOOKUP(E15,'Distribution des points'!$A$2:$B$13,2,FALSE) -> 0.45454545 | P15: =VLOOKUP(F15,'Distribution des points'!$B$28:$I$35,MATCH('Overview position for testing'!G15,'Distribution des points'!$B$27:$I$27,0),FALSE) -> 0.36363636 | Q15: =VLOOKUP(H15,'Distribution des points'!$A$2:$B$13,2,FALSE) -> 0.36363636 | R15: =VLOOKUP(I15,'Distribution des points'!$A$2:$B$13,2,FALSE) -> 0.45454545 | S15: =VLOOKUP(J15,'Distribution des points'!$A$2:$B$13,2,FALSE) -> 0 | U15: =L15*B$3 -> 109.09091 | V15: =M15*C$3 -> 31.818182 | W15: =N15*D$3 -> 109.09091 | X15: =O15*E$3 -> 68.181818 | Y15: =P15*$F$3 -> 90.909091 | Z15: =Q15*$H$3 -> 18.181818 | AA15: =R15*$I$3 -> 22.727273 | AB15: =S15*$J$3 -> 0 | AD15: =SUM(U15:AB15) -> 450 | AF15: =LOOKUP(AD15,Levels!$A$2:$A$21,Levels!$C$2:$C$21) -> 10
A16: Infirmier hospitalier | B16: 6 | C16: 8 | D16: 6 | E16: 7 | F16: 4 | G16: 3 | H16: 6 | I16: 8 | J16: 5 | L16: =VLOOKUP(B16,'Distribution des points'!$A$2:$B$13,2,FALSE) -> 0.45454545 | M16: =VLOOKUP(C16,'Distribution des points'!$A$2:$B$13,2,FALSE) -> 0.63636364 | N16: =VLOOKUP(D16,'Distribution des points'!$A$2:$B$13,2,FALSE) -> 0.45454545 | O16: =VLOOKUP(E16,'Distribution des points'!$A$2:$B$13,2,FALSE) -> 0.54545455 | P16: =VLOOKUP(F16,'Distribution des points'!$B$28:$I$35,MATCH('Overview position for testing'!G16,'Distribution des points'!$B$27:$I$27,0),FALSE) -> 0.36363636 | Q16: =VLOOKUP(H16,'Distribution des points'!$A$2:$B$13,2,FALSE) -> 0.45454545 | R16: =VLOOKUP(I16,'Distribution des points'!$A$2:$B$13,2,FALSE) -> 0.63636364 | S16: =VLOOKUP(J16,'Distribution des points'!$A$2:$B$13,2,FALSE) -> 0.36363636 | U16: =L16*B$3 -> 90.909091 | V16: =M16*C$3 -> 31.818182 | W16: =N16*D$3 -> 90.909091 | X16: =O16*E$3 -> 81.818182 | Y16: =P16*$F$3 -> 90.909091 | Z16: =Q16*$H$3 -> 22.727273 | AA16: =R16*$I$3 -> 31.818182 | AB16: =S16*$J$3 -> 18.181818 | AD16: =SUM(U16:AB16) -> 459.09091 | AF16: =LOOKUP(AD16,Levels!$A$2:$A$21,Levels!$C$2:$C$21) -> 10
A17: Talent Acquisition Specialist | B17: 6 | C17: 7 | D17: 7 | E17: 8 | F17: 4 | G17: 4 | H17: 6 | I17: 7 | J17: 1 | L17: =VLOOKUP(B17,'Distribution des points'!$A$2:$B$13,2,FALSE) -> 0.45454545 | M17: =VLOOKUP(C17,'Distribution des points'!$A$2:$B$13,2,FALSE) -> 0.54545455 | N17: =VLOOKUP(D17,'Distribution des points'!$A$2:$B$13,2,FALSE) -> 0.54545455 | O17: =VLOOKUP(E17,'Distribution des points'!$A$2:$B$13,2,FALSE) -> 0.63636364 | P17: =VLOOKUP(F17,'Distribution des points'!$B$28:$I$35,MATCH('Overview position for testing'!G17,'Distribution des points'!$B$27:$I$27,0),FALSE) -> 0.36363636 | Q17: =VLOOKUP(H17,'Distribution des points'!$A$2:$B$13,2,FALSE) -> 0.45454545 | R17: =VLOOKUP(I17,'Distribution des points'!$A$2:$B$13,2,FALSE) -> 0.54545455 | S17: =VLOOKUP(J17,'Distribution des points'!$A$2:$B$13,2,FALSE) -> 0 | U17: =L17*B$3 -> 90.909091 | V17: =M17*C$3 -> 27.272727 | W17: =N17*D$3 -> 109.09091 | X17: =O17*E$3 -> 95.454545 | Y17: =P17*$F$3 -> 90.909091 | Z17: =Q17*$H$3 -> 22.727273 | AA17: =R17*$I$3 -> 27.272727 | AB17: =S17*$J$3 -> 0 | AD17: =SUM(U17:AB17) -> 463.63636 | AF17: =LOOKUP(AD17,Levels!$A$2:$A$21,Levels!$C$2:$C$21) -> 10
... A34: Directeur général | B34: 9 | C34: 7 | D34: 10 | E34: 10 | F34: 8 | G34: 6 | H34: 11 | I34: 11 | J34: 2 | L34: =VLOOKUP(B34,'Distribution des points'!$A$2:$B$13,2,FALSE) -> 0.72727273 | M34: =VLOOKUP(C34,'Distribution des points'!$A$2:$B$13,2,FALSE) -> 0.54545455 | N34: =VLOOKUP(D34,'Distribution des points'!$A$2:$B$13,2,FALSE) -> 0.81818182 | O34: =VLOOKUP(E34,'Distribution des points'!$A$2:$B$13,2,FALSE) -> 0.81818182 | P34: =VLOOKUP(F34,'Distribution des points'!$B$28:$I$35,MATCH('Overview position for testing'!G34,'Distribution des points'!$B$27:$I$27,0),FALSE) -> 1 | Q34: =VLOOKUP(H34,'Distribution des points'!$A$2:$B$13,2,FALSE) -> 0.90909091 | R34: =VLOOKUP(I34,'Distribution des points'!$A$2:$B$13,2,FALSE) -> 0.90909091 | S34: =VLOOKUP(J34,'Distribution des points'!$A$2:$B$13,2,FALSE) -> 0.090909091 | U34: =L34*B$3 -> 145.45455 | V34: =M34*C$3 -> 27.272727 | W34: =N34*D$3 -> 163.63636 | X34: =O34*E$3 -> 122.72727 | Y34: =P34*$F$3 -> 250 | Z34: =Q34*$H$3 -> 45.454545 | AA34: =R34*$I$3 -> 45.454545 | AB34: =S34*$J$3 -> 4.5454545 | AD34: =SUM(U34:AB34) -> 804.54545 | AF34: =LOOKUP(AD34,Levels!$A$2:$A$21,Levels!$C$2:$C$21) -> 17

Sheet Overview critere
A2: Domaine | B2: Critère | C2: Description synthétique | D2: Type
A3: 1. Compétences | B3: 1A. Connaissances & expertise techniques | C3: Maîtrise des savoirs théoriques, techniques et spécialisés nécessaires au métier ; capacité à les appliquer et les mettre à jour. | D3: Linéaire (12 niveaux)
A4: 1. Compétences | B4: 1B. Compétences pratiques & opérationnelles | C4: Capacité à exécuter efficacement les tâches, méthodes et processus ; maîtrise opérationnelle des outils et pratiques du métier. | D4: Linéaire (12 niveaux)
A5: 1. Compétences | B5: 1C. Capacités cognitives & analytiques | C5: Capacité à analyser, structurer, résoudre des problèmes, prendre des décisions fondées et traiter l’information de manière efficace. | D5: Linéaire (12 niveaux)
A6: 1. Compétences | B6: 1D. Capacités relationnelles & émotionnelles | C6: Qualité des interactions, communication, gestion des émotions, influence et aptitude à maintenir un climat de collaboration et de confiance. Leadership. | D6: Linéaire (12 niveaux)
A7: 2. Responsabilités | B7: 2A. Impact & autonomie décisionnelle | C7: Étendue du périmètre (équipe → BU → organisation), niveau d’influence et d’autonomie dans les décisions, capacité à arbitrer. | D7: Matrice Impact × Autonomie (8 × 6)
A8: 2. Responsabilités | B8: 2B. Qualité, conformité, éthique & responsabilité sociétale | C8: Niveau de responsabilité lié au respect des normes, de la qualité, de l’éthique, de la sécurité, et de l’impact humain ou environnemental. | D8: Linéaire (12 niveaux)
A9: 3. Contraintes | B9: 3A. Exigences intellectuelles, humaines & organisationnelles | C9: Exigences cognitives, charge émotionnelle, tension relationnelle, pression temporelle et imprévisibilité dans l’exécution du rôle. | D9: Linéaire (12 niveaux)
A10: 3. Contraintes | B10: 3B. Exigences physiques & environnementales | C10: Sollicitations corporelles, postures, manutention, vigilance physique, exposition aux environnements difficiles ou risqués. | D10: Linéaire (12 niveaux)

Sheet Competences
B1: Niveau | C1: Description | D1: Exemples de fonctions
A2: 1A – Connaissances & expertise techniques | B2: 1 | C2: Comprend uniquement des notions très simples, a besoin d’explications pas à pas et reproduit des tâches élémentaires sans réelle autonomie. | D2: Assistant administratif débutant ; ouvrier polyvalent ; agent d’accueil.
B3: 2 | C3: Dispose de connaissances de base suffisantes pour suivre des procédures standardisées, mais ne sait pas encore adapter ou expliquer les concepts techniques sous-jacents. | D3: Employé administratif ; opérateur logistique débutant ; support IT L1 junior.
B4: 3 | C4: Applique correctement des connaissances techniques élémentaires, traite les situations courantes avec une supervision légère et comprend les principes essentiels de son domaine. | D4: Technicien support L1 ; employé comptable débutant ; magasinier expérimenté.
B5: 4 | C5: Maîtrise les principes techniques clés de son métier, résout de manière autonome les problèmes habituels et garantit la conformité des opérations simples à moyennement complexes. | D5: Comptable général ; infirmier ; technicien de maintenance niveau 1.
B6: 5 | C6: Adapte ses connaissances à des situations variées, identifie les anomalies moins évidentes et gère des cas nouveaux ou légèrement complexes avec assurance. | D6: Développeur junior ; data analyst junior ; électromécanicien confirmé.
B7: 6 | C7: Analyse et comprend des problèmes techniques plus complexes, compare plusieurs approches possibles et choisit celle offrant le meilleur compromis entre qualité, coût et délai. | D7: Technicien de maintenance senior ; analyste financier junior ; développeur intermédiaire.
B8: 7 | C8: Maîtrise un domaine technique complet, sert de référence aux collègues, propose des optimisations et résout des problématiques avancées dans son périmètre. | D8: Comptable senior ; ingénieur méthodes ; HR payroll expert.
B9: 8 | C9: Combine plusieurs spécialités techniques, prend en charge des dossiers sensibles, structure les analyses complexes et propose des solutions robustes et argumentées. | D9: Développeur senior ; analyste data confirmé ; ingénieur de production.
B10: 9 | C10: Anticipe les risques techniques, évalue les impacts organisationnels, conseille le management et intervient sur les situations critiques ou atypiques. | D10: Architecte logiciel ; analyste financier senior ; ingénieur qualité senior.
B11: 10 | C11: Conçoit ou améliore des approches techniques avancées, définit des standards internes et résout des problématiques stratégiques pour l’organisation. | D11: Expert cybersécurité ; ingénieur R&D senior ; spécialiste réseau senior.
B12: 11 | C12: Détient une expertise reconnue au niveau national, contribue aux meilleures pratiques du secteur et intervient sur des dossiers à très haute sensibilité technique. | D12: Actuaire senior ; expert fiscal national ; ingénieur expert en normes RF.
B13: 12 | C13: Possède une expertise rare à portée internationale, influence les orientations techniques de plusieurs entités ou pays et participe à l’évolution des standards professionnels ou réglementaires. | D13: Architecte d’entreprise international ; expert SAP/ERP multi-pays ; spécialiste sécurité aéronautique.
A14: 1B. Compétences pratiques & opérationnelles | B14: 1 | C14: Réalise des tâches simples en suivant des consignes étape par étape ; ne maîtrise que les gestes les plus élémentaires et nécessite un encadrement rapproché. | D14: Employé administratif débutant ; opérateur logistique ; ouvrier polyvalent.
B15: 2 | C15: Exécute correctement des routines clairement définies ; applique des procédures standard sans savoir les adapter ; détecte uniquement les erreurs évidentes. | D15: Assistant administratif ; opérateur d’assemblage ; agent back-office.
B16: 3 | C16: Maîtrise les opérations courantes de son poste ; utilise les outils et procédures avec aisance ; résout des écarts simples par des ajustements techniques connus. | D16: Technicien support L1 ; aide-comptable ; agent de planning simple.
B17: 4 | C17: Assure l’exécution fiable de processus plus variés ; ajuste ses actions selon la situation ; maintient un bon niveau de qualité même en cas de petites variations. | D17: Comptable général ; technicien de maintenance niveau 1 ; opérateur machine.
B18: 5 | C18: Adapte sa manière de travailler à des situations non standard ; diagnostique des problèmes techniques courants ; choisit la bonne méthode d’exécution parmi plusieurs options. | D18: Électromécanicien ; gestionnaire administratif confirmé ; analyste junior.
B19: 6 | C19: Maîtrise des opérations nécessitant précision, rigueur et compréhension pratique ; optimise sa manière de faire pour gagner en efficacité ; prévient les erreurs récurrentes. | D19: Technicien de maintenance senior ; développeur intermédiaire ; gestionnaire logistique confirmé.
B20: 7 | C20: Exécute des tâches complexes ou sensibles nécessitant un haut degré d’expertise pratique ; adapte finement son travail en fonction des contraintes techniques. | D20: Comptable senior ; agent de contrôle qualité ; technicien réseau.
B21: 8 | C21: Développe des méthodes d’exécution avancées dans son domaine ; maîtrise parfaitement les outils complexes ; traite les cas techniques atypiques. | D21: Analyste data confirmé ; électromécanicien expert ; développeur senior.
B22: 9 | C22: Traite des situations opérationnelles critiques ou rares ; identifie les meilleures approches pratiques dans des contextes difficiles ; garantit un résultat fiable dans des conditions instables. | D22: Spécialiste IT senior ; expert maintenance multi-systèmes ; expert comptable opérationnel.
B23: 10 | C23: Conçoit ou adapte des méthodes opérationnelles complexes ; maîtrise totalement l’environnement technique et résout des problématiques avancées avec grande précision. | D23: Expert process ; ingénieur R&D pratique ; analyste senior opérationnel.
B24: 11 | C24: Reconnu comme expert référent dans l’exécution pratique d’un domaine ; traite les problèmes critiques, rares ou très techniques ; améliore ou fiabilise les pratiques existantes. | D24: Expert qualité ; spécialiste cybersécurité exécutive ; expert technique corporate.
B25: 12 | C25: Maîtrise exceptionnelle et rare des pratiques techniques ou opérationnelles ; résout des situations de très haute complexité pratique ; définit les standards de référence du métier. | D25: Expert international ; spécialiste technique de pointe ; architecte technique exécutif.
A26: 1C. Compétences cognitives & analytiques | B26: 1 | C26: Comprend des informations simples et suit des instructions directes, sans capacité d’analyse ou de structuration autonome. | D26: Employé administratif débutant ; agent d’accueil ; opérateur logistique élémentaire.
B27: 2 | C27: Interprète des informations basiques, repère des incohérences simples et applique des règles logiques limitées. | D27: Assistant administratif ; employé back-office ; opérateur de saisie.
B28: 3 | C28: Analyse des situations courantes, compare des données simples et prend des décisions basées sur des critères établis. | D28: Technicien support L1 ; employé comptable ; assistant RH.
B29: 4 | C29: Résout des problèmes standards en choisissant parmi plusieurs options et structure l’information de manière claire. | D29: Comptable général ; technicien de maintenance ; data analyst junior.
B30: 5 | C30: Analyse des situations variées, identifie les priorités et propose des solutions adaptées à des contextes légèrement complexes. | D30: Développeur junior ; collaborateur comptable confirmé ; analyste financier junior.
B31: 6 | C31: Interprète des données complexes, détecte des schémas ou anomalies non évidentes et formule des recommandations pertinentes. | D31: Analyste data intermédiaire ; technicien senior ; contrôleur de gestion junior.
B32: 7 | C32: Structure et simplifie des problématiques techniques ou organisationnelles, produit des analyses approfondies et éclaire les décisions d’un service. | D32: Analyste financier ; business analyst ; ingénieur méthodes.
B33: 8 | C33: Combine plusieurs sources d’information complexes, modélise des scénarios et choisit les solutions les plus efficaces et robustes. | D33: Data analyst senior ; analyste risques ; ingénieur process.
B34: 9 | C34: Analyse des situations ambiguës ou stratégiques, intègre de multiples contraintes et fournit des recommandations à fort impact. | D34: Architecte logiciel ; contrôleur de gestion senior ; expert RH analytique.
B35: 10 | C35: Développe des modèles avancés, résout des problématiques critiques et éclaire les orientations clés de l’organisation. | D35: Data scientist ; expert cybersécurité ; responsable performance.
B36: 11 | C36: Produit des analyses de très haut niveau, influence les décisions stratégiques multi-départements et établit des standards analytiques. | D36: Actuaire senior ; expert analytique national ; consultant stratégique senior.
B37: 12 | C37: Décrypte des systèmes complexes à l’échelle internationale, modélise des dynamiques majeures et influence les orientations stratégiques long terme. | D37: Chief data scientist ; économiste expert ; architecte stratégique international.
A38: 1D. Compétences relationnelles, émotionnelles & leadership | B38: 1 | C38: Communique de manière simple, comprend les consignes directes, mais a besoin d’accompagnement pour gérer les interactions courantes ou les émotions. | D38: Employé administratif débutant ; ouvrier polyvalent ; agent de réception.
B39: 2 | C39: Interagit correctement dans des situations simples, applique les règles de courtoisie et gère des échanges basiques sans difficulté majeure. | D39: Assistant administratif ; employé call center niveau 1 ; agent d’accueil.
B40: 3 | C40: Communique de façon claire dans les situations habituelles, écoute activement et gère de petites tensions relationnelles avec soutien ponctuel. | D40: Technicien support ; employé comptable ; assistant RH.
...

Sheet Responsabilité
A1: 2A Impact \ Autonomie | C1: 1 – Très guidé | D1: 2 – Partielle | E1: 3 – Opérationnelle | F1: 4 – Large | G1: 5 – Stratégique locale | H1: 6 – Stratégique étendue
C2: Suit des consignes détaillées, marge de décision quasi nulle. | D2: Autonomie limitée sur l’organisation des tâches simples, décisions définies par un cadre précis. | E2: Autonomie complète sur l’exécution des activités de son périmètre opérationnel. | F2: Décisions autonomes sur un périmètre élargi (équipe, projet, service partiel). | G2: Décisions structurantes sur un département, un service complet ou une fonction clé. | H2: Décisions majeures impactant plusieurs services, BU ou régions ; autonomie de cadrage stratégique.
A3: Impact 1 – Individuel | B3: Impact limité à ses propres tâches, sans influence sur d’autres personnes, processus ou résultats globaux. | C3: Suit des consignes strictes, aucune décision impactant d’autres. (Employé administratif, opérateur) | D3: Décisions simples limitées à son travail. (Helpdesk junior, employé back-office) | E3: Décisions mineures sur l’organisation de ses tâches. (Technicien L1, comptable junior) | F3: Ajustements personnels pour aider l’équipe. (Opérateur expérimenté) | G3: Propose de micro-améliorations locales sans pouvoir. (Assistant administratif confirmé) | H3: Idées générales mais sans influence. (Employé senior non décisionnel)
A4: Impact 2 – Micro-équipe | B4: Impact sur un petit groupe (2–5 personnes) ou une micro-fonction ; influence très localisée. | C4: Exécute pour soutenir une micro-équipe. (Magasinier, agent d’accueil) | D4: Décisions opérationnelles très limitées affectant 2–5 personnes. (Assistant planning) | E4: Décide du fonctionnement quotidien d’un petit groupe. (Senior agent support) | F4: Influence la répartition des tâches dans la micro-équipe. (Agent référent) | G4: Oriente légèrement les pratiques locales. (Technicien référent) | H4: Propose des ajustements d’organisation reconnus localement. (Senior support expert)
A5: Impact 3 – Équipe / service partiel | B5: Impact réel sur une équipe structurée ou une partie d’un service ; décisions influencent qualité/délais locaux. | C5: Contribue sans décider pour l’équipe. (Agent service client) | D5: Décisions simples dans un segment du service. (Gestionnaire dossiers) | E5: Décisions opérationnelles sur un processus d’équipe. (Technicien maintenance) | F5: Influence la coordination interne de l’équipe. (Coordinateur planning) | G5: Oriente une partie de la performance de l’équipe. (Référent métier) | H5: Redéfinit partiellement des méthodes d’équipe. (Expert interne)
A6: Impact 4 – Service complet | B6: Impact significatif sur un département ou service entier ; influence sur la performance opérationnelle ou financière du périmètre. | C6: Exécute sans impact sur le fonctionnement du service. (Employé service administratif) | D6: Décisions ponctuelles sur une partie du service. (Analyste junior) | E6: Décisions opérationnelles majeures d’un processus-clé. (Technicien senior, comptable senior) | F6: Pilote plusieurs activités du service. (Chef d’équipe) | G6: Impact organise la performance du service. (Responsable de service adjoint) | H6: Influence la structure globale du service. (Expert senior, responsable fonctionnel)
A7: Impact 5 – Transversal multi-équipes | B7: Impact transversal sur plusieurs équipes ; influence sur coordination, harmonisation des méthodes et cohérence globale locale. | C7: Exécute des tâches transversales définies. (Agent reporting, opérateur qualité) | D7: Décisions ponctuelles facilitant la coordination multi-équipes. (Coordinateur support) | E7: Décisions opérationnelles affectant plusieurs équipes. (Gestionnaire transversal) | F7: Pilote des flux multi-équipes. (Coordinateur opérationnel) | G7: Oriente les pratiques transversales. (Responsable projet interne) | H7: Décide de changements transversaux majeurs. (Expert process transverse)
A8: Impact 6 – Multi-sites | B8: Impact sur plusieurs sites locaux ou plusieurs implantations opérationnelles d’une même zone géographique. | C8: Applique des directives multi-sites sans adaptation. (Agent logistique multi-site) | D8: Adapte légèrement les règles par site. (Technicien support régional) | E8: Décisions opérationnelles pour plusieurs sites. (Coordinateur multi-sites) | F8: Pilote un périmètre multi-sites. (Manager régional, chef de zone) | G8: Influence la performance multi-sites. (Responsable opérationnel région) | H8: Détermine les orientations opérationnelles multi-sites. (Responsable régional senior)
A9: Impact 7 – Business Unit | B9: Impact direct sur les résultats financiers, opérationnels ou stratégiques d’une entité ou BU entière. | C9: Contribue sans impact direct BU. (Employé BU) | D9: Décisions locales avec petit impact BU. (Expert métier junior) | E9: Décisions sur un segment clé de la BU. (Manager intermédiaire) | F9: Pilote un périmètre stratégique interne. (Responsable BU adjoint) | G9: Influence les résultats BU. (Directeur de site industriel, HRBP senior) | H9: Oriente la stratégie BU. (Directeur BU)
A10: Impact 8 – Organisation / multi-pays | B10: Impact majeur sur plusieurs BU, plusieurs pays, ou l’organisation entière ; influence stratégique globale. | C10: Exécute des décisions corporate. (Employé corporate) | D10: Petite marge d’adaptation des décisions globales. (Coordinations locales) | E10: Décisions stratégiques limitées. (Manager corporate junior) | F10: Pilote un périmètre multi-pays. (Directeur régional) | G10: Influence la stratégie globale multi-entités. (Directeur fonctionnel corporate) | H10: Définit la stratégie corporate. (Membre ComEx, directeur général)
A13: 2B. Responsabilité qualité, conformité, éthique, sociale & environnementale | B13: Niveau | C13: Description | F13: Exemples de fonctions
B14: 1 | C14: Applique strictement des consignes simples de qualité, sécurité ou éthique ; détecte des anomalies basiques lorsqu’on l’y invite. | F14: Employé administratif débutant ; opérateur logistique ; agent d’accueil.
B15: 2 | C15: Respecte les règles de qualité et de sécurité, signale spontanément les écarts simples et contribue à un environnement conforme dans son périmètre immédiat. | F15: Assistant administratif ; employé back-office ; technicien support L1.
B16: 3 | C16: Contrôle la qualité de son propre travail, repère les écarts courants, applique correctement les politiques internes et respecte les obligations légales simples. | F16: Employé comptable ; technicien de maintenance ; assistant RH.
B17: 4 | C17: Assure la conformité d’un sous-processus, sensibilise les collègues aux bonnes pratiques et garantit la qualité standardisée des activités de son périmètre. | F17: Comptable général ; infirmier ; gestionnaire opérationnel.
B18: 5 | C18: Analyse des écarts modérés, propose des actions correctives, adapte les consignes dans des situations variées et garantit la continuité qualité/sécurité d’un processus complet. | F18: Gestionnaire RH ; planificateur supply chain ; technicien senior ; analyste financier junior.
B19: 6 | C19: Traite des non-conformités complexes, gère les incidents sensibles, contribue à réduire les risques opérationnels ou humains et influence les pratiques du service. | F19: Analyste qualité ; gestionnaire administratif senior ; contrôleur de gestion junior ; responsable d’équipe.
B20: 7 | C20: Pilote la qualité ou la conformité sur un périmètre large, coordonne des actions correctives transversales, prépare ou supervise des audits internes et gère des situations sensibles. | F20: Responsable maintenance ; manager d’équipe ; business analyst senior ; coordinateur qualité.
B21: 8 | C21: Conçoit, améliore ou sécurise des procédures qualité/conformité pour un service complet ; surveille les risques majeurs ; accompagne les équipes dans les décisions délicates. | F21: Manager de service ; HRBP ; responsable logistique ; responsable de site ; ingénieur process.
B22: 9 | C22: Gère les risques réglementaires, humains ou réputationnels à fort impact ; arbitre les décisions sensibles ; pilote des audits ou contrôles critiques dans plusieurs équipes. | F22: Responsable de service multidisciplinaire ; responsable IT ; responsable finance ; responsable opérationnel ; HSE manager.
B23: 10 | C23: Garantit la conformité et la qualité à l’échelle d’un département ; structure la gestion de crise sur des sujets sensibles ; assure l’alignement éthique et social des pratiques. | F23: Directeur de service ; manager senior RH/IT/Finance ; directeur de site industriel ; responsable opérationnel BU.
B24: 11 | C24: Définit et pilote des politiques qualité, éthique, sociale ou environnementale pour plusieurs départements ou entités ; intervient sur des décisions organisationnelles majeures. | F24: Directeur multi-sites ; directeur RH/Finance/IT ; responsable BU ; directeur opérations ; responsable stratégie QSE.
B25: 12 | C25: Porte la responsabilité ultime de la réputation, de l’éthique, de l’impact social/environnemental ou réglementaire d’une large organisation ; engage l’entreprise dans des décisions structurantes et durables. | F25: Directeur général ; membre de comité exécutif ; directeur corporate transversal ; responsable international de gouvernance/qualité/environnement.

Sheet Contrainte
B2: Niveau | C2: Description | D2: Exemples
A3: 3A Exigences intellectuelles, humaines & organisationnelles | B3: 1 | C3: Exigences très légères : tâches simples et prévisibles, faible charge mentale, interactions courtes et sereines, absence d’urgence ou d’imprévu. | D3: Agent de tri, commis administratif, opérateur de saisie.
B4: 2 | C4: Exigences faibles : traitement d’informations basiques, interactions poli-courtoises avec peu de tensions, rythme stable avec quelques variations simples. | D4: Assistant administratif, agent d’accueil, employé de guichet simple.
B5: 3 | C5: Exigences modérées : nécessité de comprendre plusieurs informations, gérer des usagers parfois impatients, respecter des délais réguliers mais raisonnables. | D5: Helpdesk L1, gestionnaire de dossiers standards, technicien support simple.
B6: 4 | C6: Exigences régulières : analyse de situations variées, gestion d’interactions parfois sensibles, priorités changeantes mais prévisibles à court terme. | D6: Conseiller clientèle, comptable junior, infirmier consultations.
B7: 5 | C7: Exigences combinées : résolution de problèmes courants, exposition à des émotions modérées (stress, plaintes), arbitrages fréquents entre plusieurs tâches urgentes. | D7: Technicien maintenance, HR officer, superviseur service client.
B8: 6 | C8: Exigences élevées : contexte instable, confrontation régulière à des usagers stressés, gestion de plusieurs priorités en parallèle, décisions rapides en temps limité. | D8: Chef d’équipe, gestionnaire sinistres complexes, éducateur spécialisé confirmé.
B9: 7 | C9: Exigences fortes : analyse de problèmes difficiles, interactions tendues fréquentes (conflits, désaccords), tensions organisationnelles importantes (pics d’activité, imprévus). | D9: Coordinateur opérationnel, agent pénitentiaire, responsable logistique terrain.
B10: 8 | C10: Exigences très élevées : forte complexité cognitive, gestion d’émotions intenses (détresse, colère), priorités hautement changeantes avec deadlines strictes. | D10: Responsable d’unité hospitalière, inspecteur de police, manager opérations.
B11: 9 | C11: Exigences critiques : difficultés cognitives importantes (ambiguïté, manque d’information), situations émotionnelles lourdes, pression temporelle extrême affectant la continuité d’activité. | D11: Responsable centre d’hébergement, officier de police opérationnel, contrôleur réseau.
B12: 10 | C12: Exigences extrêmes : résolution complexe en contexte de stress élevé, gestion de crises humaines, arbitrages urgents affectant plusieurs parties prenantes. | D12: Médecin urgentiste, responsable intervention technique, chef de crise local.
B13: 11 | C13: Exigences exceptionnelles : décisions complexes sous forte tension émotionnelle, gestion d’incidents majeurs, pressions organisationnelles multidimensionnelles. | D13: Chef de service d’urgence, commandant opérationnel, directeur d’un grand service critique.
B14: 12 | C14: Exigences maximales : contexte de crise ou décision stratégique sous haute pression mentale et émotionnelle, fort impact humain, instabilité organisationnelle majeure. | D14: Directeur d’hôpital, directeur sécurité publique, responsable national de crise.
A15: 3B. Exigences physiques & environnementales | B15: 1 | C15: Exigences physiques très faibles : poste sédentaire, environnement calme, aucun risque ni exposition particulière. | D15: Employé administratif, analyste, comptable.
B16: 2 | C16: Exigences faibles : déplacements légers, manipulation d’objets très légers, environnement confortable et sécurisé. | D16: Réceptionniste, agent de guichet, employé back-office.
B17: 3 | C17: Exigences modérées : postures variées sans effort significatif, environnement légèrement bruyant ou agité ; vigilance corporelle basique. | D17: Employé en magasin, assistant logistique léger, helpdesk terrain.
B18: 4 | C18: Exigences régulières : déplacements fréquents, port ponctuel d’objets légers à moyens, environnement parfois bruyant ou chaud/froid. | D18: Technicien IT terrain, aide-soignant, opérateur de production léger.
B19: 5 | C19: Exigences importantes : manutention régulière, postures contraignantes, environnement parfois physiquement exigeant ou avec risques mineurs. | D19: Technicien maintenance, magasinier, infirmier en service hospitalier.
B20: 6 | C20: Exigences physiques élevées : port de charges, mouvements répétitifs, environnement bruyant, chaud ou perturbant ; vigilance corporelle nécessaire. | D20: Ouvrier logistique, éducateur en mobilité, opérateur machine complexe.
B21: 7 | C21: Exigences fortes : effort physique constant, risque mécanique moyen, contact direct possible avec des personnes agitées ; environnement fréquenté ou instable. | D21: Agent pénitentiaire, éducateur spécialisé terrain, technicien réseau extérieur.
B22: 8 | C22: Exigences très fortes : travail en environnement difficile (extérieur, hauteur, chaleur/froid) ; risque corporel significatif ; vigilance physique élevée. | D22: Monteur en hauteur, électricien réseau, agent de maintenance industrielle.
B23: 9 | C23: Exigences critiques : environnement dangereux ou instable, fortes contraintes corporelles, risque mécanique/biologique/chimique notable ; interventions difficiles. | D23: Pompier non opération de feu, technicien chimie, opérateur salle blanche complexe.
B24: 10 | C24: Exposition à des risques graves : environnement très exigeant, interventions physiques complexes, possible violence physique, risques lourds. | D24: Policier intervention, urgentiste terrain, technicien haute tension.
B25: 11 | C25: Exigences extrêmes : interventions dans environnements très à risque (accident, zone instable), tension physique et vigilance maximales. | D25: Équipe spéciale, chef intervention pompier, spécialiste sécurité industrielle.
B26: 12 | C26: Exigences maximales : exposition à risques majeurs (catastrophe, incendie, effondrement, environnement critique), engagement corporel total. | D26: Chef des opérations de crise, commandant secours public, responsable national interventions.
